BEGIN:VCALENDAR
VERSION:2.0
PRODID:-//Skiclub Hainsacker e.V. - ECPv6.15.20//NONSGML v1.0//EN
CALSCALE:GREGORIAN
METHOD:PUBLISH
X-ORIGINAL-URL:https://skiclub-hainsacker.de
X-WR-CALDESC:Veranstaltungen für Skiclub Hainsacker e.V.
REFRESH-INTERVAL;VALUE=DURATION:PT1H
X-Robots-Tag:noindex
X-PUBLISHED-TTL:PT1H
BEGIN:VTIMEZONE
TZID:Europe/Berlin
BEGIN:DAYLIGHT
TZOFFSETFROM:+0100
TZOFFSETTO:+0200
TZNAME:CEST
DTSTART:20240331T010000
END:DAYLIGHT
BEGIN:STANDARD
TZOFFSETFROM:+0200
TZOFFSETTO:+0100
TZNAME:CET
DTSTART:20241027T010000
END:STANDARD
BEGIN:DAYLIGHT
TZOFFSETFROM:+0100
TZOFFSETTO:+0200
TZNAME:CEST
DTSTART:20250330T010000
END:DAYLIGHT
BEGIN:STANDARD
TZOFFSETFROM:+0200
TZOFFSETTO:+0100
TZNAME:CET
DTSTART:20251026T010000
END:STANDARD
BEGIN:DAYLIGHT
TZOFFSETFROM:+0100
TZOFFSETTO:+0200
TZNAME:CEST
DTSTART:20260329T010000
END:DAYLIGHT
BEGIN:STANDARD
TZOFFSETFROM:+0200
TZOFFSETTO:+0100
TZNAME:CET
DTSTART:20261025T010000
END:STANDARD
BEGIN:DAYLIGHT
TZOFFSETFROM:+0100
TZOFFSETTO:+0200
TZNAME:CEST
DTSTART:20270328T010000
END:DAYLIGHT
BEGIN:STANDARD
TZOFFSETFROM:+0200
TZOFFSETTO:+0100
TZNAME:CET
DTSTART:20271031T010000
END:STANDARD
END:VTIMEZONE
BEGIN:VEVENT
DTSTART;TZID=Europe/Berlin:20260328T180000
DTEND;TZID=Europe/Berlin:20260328T210000
DTSTAMP:20260421T132459
CREATED:20221004T221132Z
LAST-MODIFIED:20250822T194833Z
UID:766-1774720800-1774731600@skiclub-hainsacker.de
SUMMARY:Jahreshauptversammlung
DESCRIPTION:Herzliche Einladung an alle Mitglieder zur Jahreshauptversammlung. \n\n\n\nWir laden euch recht herzlich ein\, an unserer diesjährigen Jahreshauptversammlung teilzunehmen.Sollte jemandem was auf dem Herzen liegen\, dann bittet sprecht uns an\, damit wir diese Anträge in die Tagesordnung mit aufnehmen können. Anträge können bis 28.02.2026 bei Marcus Mühlbauer gestellt werden.Damit wir besser planen können\, bitten wir euch um eine kurze Anmeldung über Marcus Mühlbauer. \n\n\n\nBeginn: 18:00 UhrGasthof PrösslLorenzer Straße 293138 Hainsacker \n\n\n\nAnmeldung:Mühlbauer Marcus0171/3881278
URL:https://skiclub-hainsacker.de/event/jahreshauptversammlung/
LOCATION:Gasthof Prößl\, Lorenzer Straße 2\, Hainsacker\, Bayern\, 93138\, Deutschland
ORGANIZER;CN="Uwe Pfeffinger":MAILTO:info@skiclub-hainsacker.de
END:VEVENT
BEGIN:VEVENT
DTSTART;TZID=Europe/Berlin:20260314T050000
DTEND;TZID=Europe/Berlin:20260314T223000
DTSTAMP:20260421T132459
CREATED:20221004T215804Z
LAST-MODIFIED:20251204T142305Z
UID:757-1773464400-1773527400@skiclub-hainsacker.de
SUMMARY:Après-Ski - Kaltenbach
DESCRIPTION:Mit unsere letzten Fahrt in dieser Saison wollen wir mit euch noch einma richtig Gas geben!Den Skitag werden wir daher gemeinsam in einer Aprés Ski Hütte ausklingen lassen\, um dort die Saison gebührend zu feiern! \n\n\n\nTreffpunkt: 04:45 Uhr – Parkplatz Gasthof Prössl in Hainsacker \n\n\n\nAbfahrt: 05:00 Uhr \n\n\n\nRückkehr:22:30 Uhr \n\n\n\nAnmeldung:Veronica Kreidl (0175/1730439)Manuel Bischof (0176/66612343) \n\n\n\nPreise (zzgl. tagesaktueller Gruppentarif): \n\n\n\n\n\nErwachsene \n\n\n\nKinder/Jugendliche bis 17 Jahre: \n\n\n\nKinder bis 12 Jahre: \n\n\n\nGäste: \n\n\n\n\n\n30\,00 € \n\n\n\n20\,00 € \n\n\n\n10\,00 € \n\n\n\n+ 10\,00 € \n\n\n\n\n\nDer angegebene Preis beinhaltet den Bustransfer. Der Gesamtpreis (inkl. Skipass Gruppenpreis) wird eine Woche vor der Fahrt aktualisiert und kann am Veranstaltungstag während der Busfahrt bezahlt werden. \n\n\n\nBitte denkt an ausreichend Bargeld\, da die Tagesfahrten in bar im Bus bezahlt werden. \n\n\nAnmeldung Tagesfahrt\n\n\n\n\n  \n\n\n\n\n\n\n\n\n\n\n Welche Fahrt:\nAlpbachtal / WildschönauWaidring/SteinplatteAprès-Ski Kaltenbach \n \n Vor- und Nachname:\n \n \n Geburtsdatum:\n \n \n Straße + Hausnummer:\n \n \n Postleitzahl:\n \n \n Ort:\n \n \n Telefonnummer\n \n \n Deine E-Mail-Adresse\n\n\n \n Mitglied\nJaNein\n\n \n\nSie erklären sich damit Einverstanden\, dass Ihre Daten zur Bearbeitung Ihres Anliegens verwendete werden. Weitere Informationen und Widerrufshinweise finden Sie in der Rubrik Datenschutz
URL:https://skiclub-hainsacker.de/event/tagesfahrt-wilder-kaiser/
END:VEVENT
BEGIN:VEVENT
DTSTART;TZID=Europe/Berlin:20260221T050000
DTEND;TZID=Europe/Berlin:20260221T200000
DTSTAMP:20260421T132459
CREATED:20221004T220759Z
LAST-MODIFIED:20251204T055523Z
UID:762-1771650000-1771704000@skiclub-hainsacker.de
SUMMARY:Tagesfahrt Waidring/Steinplatte
DESCRIPTION:Am 21. Februar fahren wir für einen Tag in das Skigebiet nach Waiding/Steinplatte.Mitten im Dreiländereck Tirol-Salzburg-Bayern begeistert die Steinplatte mit 42 Top-Pistenkilometern\, grandiosem Panoramablick und tollen Aktivitäten. Besonders für Familien und Kinder bietet die Steinplatte eine bunte Vielfalt an Attraktionen. Treffpunkt: 04:45 Uhr – Parkplatz Gasthof Prössl in Hainsacker \n\n\n\nAbfahrt: 05:00 Uhr \n\n\n\nRückkehr:20:00 UhrAnmeldung: Uwe Pfeffinger0171/3814287Preise (zzgl. tagesaktueller Gruppentarif): \n\n\n\n\n\nErwachsene \n\n\n\nKinder/Jugendliche bis 17 Jahre: \n\n\n\nKinder bis 12 Jahre: \n\n\n\nGäste: \n\n\n\n\n\n30\,00 € \n\n\n\n20\,00 € \n\n\n\n10\,00 € \n\n\n\n+ 10\,00 € \n\n\n\n\n\nDer angegebene Preis beinhaltet den Bustransfer. Der Gesamtpreis (inkl. Skipass Gruppenpreis) wird eine Woche vor der Fahrt aktualisiert und kann am Veranstaltungstag während der Busfahrt bezahlt werden. \n\n\n\nBitte denkt an ausreichend Bargeld\, da die Tagesfahrten in bar im Bus bezahlt werden. \n\n\nAnmeldung Tagesfahrt\n\n\n\n\n  \n\n\n\n\n\n\n\n\n\n\n Welche Fahrt:\nAlpbachtal / WildschönauWaidring/SteinplatteAprès-Ski Kaltenbach \n \n Vor- und Nachname:\n \n \n Geburtsdatum:\n \n \n Straße + Hausnummer:\n \n \n Postleitzahl:\n \n \n Ort:\n \n \n Telefonnummer\n \n \n Deine E-Mail-Adresse\n\n\n \n Mitglied\nJaNein\n\n \n\nSie erklären sich damit Einverstanden\, dass Ihre Daten zur Bearbeitung Ihres Anliegens verwendete werden. Weitere Informationen und Widerrufshinweise finden Sie in der Rubrik Datenschutz
URL:https://skiclub-hainsacker.de/event/tagesfahrt-hinterstoder/
END:VEVENT
BEGIN:VEVENT
DTSTART;TZID=Europe/Berlin:20260110T050000
DTEND;TZID=Europe/Berlin:20260110T200000
DTSTAMP:20260421T132459
CREATED:20221004T220849Z
LAST-MODIFIED:20250822T201549Z
UID:764-1768021200-1768075200@skiclub-hainsacker.de
SUMMARY:Tagesfahrt Alpbachtal / Wildschönau
DESCRIPTION:Am 10. Januar 2026 fahren wir für einen Tag nach Tirol in das Skigebiet Juwel Alpbachtal Wildschönau.Das Skigebiet wurde als TOP-Skigebiet für Familien und Kinder ausgezeichnet und bietet 113 Pistenkilometer für alle Alters- und Könnerstufen. Eine kleines Schmankerl bietet die vorhandene Rennstrecke für die sportlichen Fahrer unter euch.Treffpunkt: 04:45 Uhr – Parkplatz Gasthof Prössl in Hainsacker \n\n\n\nAbfahrt: 05:00 Uhr \n\n\n\nRückkehr:ca. 20:00 UhrAnmeldung:Bischof Manuel0176/66612343 \n\n\n\nPreise (zzgl. tagesaktueller Gruppentarif): \n\n\n\n\n\nErwachsene \n\n\n\nKinder/Jugendliche bis 17 Jahre: \n\n\n\nKinder bis 12 Jahre: \n\n\n\nGäste: \n\n\n\n\n\n30\,00 € \n\n\n\n20\,00 € \n\n\n\n10\,00 € \n\n\n\n+ 10\,00 € \n\n\n\n\n\nDer angegebene Preis beinhaltet den Bustransfer. Der Gesamtpreis (inkl. Skipass Gruppenpreis) wird eine Woche vor der Fahrt aktualisiert und kann am Veranstaltungstag während der Busfahrt bezahlt werden. \n\n\n\nBitte denkt an ausreichend Bargeld\, da die Tagesfahrten in bar im Bus bezahlt werden. \n\n\n\n\nAnmeldung Tagesfahrt\n\n\n\n\n  \n\n\n\n\n\n\n\n\n\n\n Welche Fahrt:\nAlpbachtal / WildschönauWaidring/SteinplatteAprès-Ski Kaltenbach \n \n Vor- und Nachname:\n \n \n Geburtsdatum:\n \n \n Straße + Hausnummer:\n \n \n Postleitzahl:\n \n \n Ort:\n \n \n Telefonnummer\n \n \n Deine E-Mail-Adresse\n\n\n \n Mitglied\nJaNein\n\n \n\nSie erklären sich damit Einverstanden\, dass Ihre Daten zur Bearbeitung Ihres Anliegens verwendete werden. Weitere Informationen und Widerrufshinweise finden Sie in der Rubrik Datenschutz
URL:https://skiclub-hainsacker.de/event/tagesfahrt-alpbachtal/
ORGANIZER;CN="Manuel Bischof":MAILTO:info@skiclub-hainsacker.de
END:VEVENT
BEGIN:VEVENT
DTSTART;TZID=Europe/Berlin:20260102T000000
DTEND;TZID=Europe/Berlin:20260104T235959
DTSTAMP:20260421T132459
CREATED:20231201T191611Z
LAST-MODIFIED:20250822T192527Z
UID:1258-1767312000-1767571199@skiclub-hainsacker.de
SUMMARY:Ski- & Snowboardkurs 2025/2026
DESCRIPTION:Alle weiteren Informationen findet ihr in der Rubrik Skikurs
URL:https://skiclub-hainsacker.de/event/ski-snowboardkurs/
ORGANIZER;CN="Skiclub Hainsacker":MAILTO:info@skiclub-hainsacker.de
END:VEVENT
BEGIN:VEVENT
DTSTART;TZID=Europe/Berlin:20251208T173000
DTEND;TZID=Europe/Berlin:20251208T183000
DTSTAMP:20260421T132459
CREATED:20250822T192020Z
LAST-MODIFIED:20250822T192110Z
UID:1600-1765215000-1765218600@skiclub-hainsacker.de
SUMMARY:Kinderweihnachtsfeier *neu*
DESCRIPTION:In diesem Jahr bieten wir euch erstmals eine Kinderweihnachtsfeier an. Sie findet anstelle des Kindertrainings in der Schulturnhalle statt. \n\n\n\nWir freuen uns über eine zahlreiche Teilnahme.
URL:https://skiclub-hainsacker.de/event/kinderweihnachtsfeier-neu/
END:VEVENT
BEGIN:VEVENT
DTSTART;TZID=Europe/Berlin:20251128T130000
DTEND;TZID=Europe/Berlin:20251130T200000
DTSTAMP:20260421T132459
CREATED:20220822T173207Z
LAST-MODIFIED:20250822T132119Z
UID:710-1764334800-1764532800@skiclub-hainsacker.de
SUMMARY:2 1/2 Tage Obertauern - Eröffnungsfahrt
DESCRIPTION:Unsere erste Fahrt und somit auch unsere Saison-Eröffnungsfahrt 2025 ist gleich wieder zu Beginn ein echtes „Schmankerl“!  \nWir fahren ein ganzes Wochenende in das schneesichere Skigebiet Obertauern. Mit mehr als 100 Pisten sollte jeder die passende Abfahrt für sich finden. Untergebracht werden wir im 3* Austria Alpin Hotel\, direkt an der Piste mit „fast“ hauseigenem Lift sein. Auch Nicht-Skifahrer\, oder Wiedereinsteiger sind herzlich willkommen! \nAuch in diesem Jahr fällt unsere Eröffnungsfahrt mit der Saisoneröffnung in Obertauern zusammen\, der diesjährige Opening Act ist „Sailer und Speer“! Tickets für entsprechende Veranstaltungen können jedoch leider nicht über den Verein bezogen werden. \nFür alle Teilnehmer ist bei den folgenden Preisen der Bustransfer\, zwei Übernachtungen (direkt auf der Piste) und Halbpension inbegriffen. \nNun zu den wichtigen Details: \nWann:                28.11.2025 – 30.11.2025 \nAbfahrt:           13:00 Uhr (Parkplatz Gasthof Prößl) \nPreise: \n\n\n\n\nMitglieder mit Skipass: \n\n\n\nGäste mit Skipass: \n\n\n\nMitfahrer ohne Skipass: \n\n\n\n \n\n\n\n\n\n460\,00 € \n\n\n\n480\,00 € \n\n\n\n380\,00 € \n\n\n\n \n\n\n\n\n*Der Preis kann nur bei einer Teilnehmeranzahl ab 20 Personen gewährleistet werden \n\n\n\nAnmeldung Obertauern\n\n\n\n\n  \n\n\n\n\n\n\n\n\n\n\n Vor- und Nachname:\n \n \n Geburtsdatum:\n \n \n Straße + Hausnummer:\n \n \n Postleitzahl:\n\n \n Ort:\n\n Telefonnummer:\n \n Deine E-Mail-Adresse:\n \n Auswahl der Teilnahme:\nMitglied mit Skipass 460 €Gäste mit Skipass 480 €Mitfahrer ohne Skipass 380 €\n\nSie erklären sich damit Einverstanden\, dass Ihre Daten zur Bearbeitung Ihres Anliegens verwendete werden. Weitere Informationen und Widerrufshinweise finden Sie in der Rubrik Datenschutz
URL:https://skiclub-hainsacker.de/event/2-1-2-tage-obertauern/
ORGANIZER;CN="Veronica Kreidl":MAILTO:info@skiclub-hainsacker.de
END:VEVENT
BEGIN:VEVENT
DTSTART;TZID=Europe/Berlin:20251122T180000
DTEND;TZID=Europe/Berlin:20251122T220000
DTSTAMP:20260421T132459
CREATED:20250822T191636Z
LAST-MODIFIED:20251019T182117Z
UID:1598-1763834400-1763848800@skiclub-hainsacker.de
SUMMARY:Skiclub Weihnachtsfeier
DESCRIPTION:Auch in diesem Jahr möchten wir uns wieder gemeinsam in die „stade Zeit“ einstimmen. Die Weihnachtsfeier richtet sich an alle Mitglieder und findet im Café & Bistro Papillon in Hainsacker statt.  \n\n\n\nWir freuen uns über eure zahlreiche Teilnahme.
URL:https://skiclub-hainsacker.de/event/skiclub-weihnachtsfeier/
END:VEVENT
END:VCALENDAR